BEGIN:VCALENDAR
VERSION:2.0
PRODID:-//Tukios.com/
BEGIN:VEVENT
UID:60d2b32c-3958-452c-b0b5-73e81cecda35@www.beecherandbennett.com
DTSTAMP:20260424T192323Z
DTSTART:20260602T150000Z
DTEND:20260602T150000Z
SUMMARY:Mass of Christian Burial
DESCRIPTION:
URL:https://www.beecherandbennett.com/obituaries/andree-decerbo
LOCATION:Our Lady of Fatima Church 382 Hope Hill Road  Wallingford CT 
	06492
GEO:41.489414;-72.831598
END:VEVENT
END:VCALENDAR