BEGIN:VCALENDAR
VERSION:2.0
PRODID:-//Tukios.com/
BEGIN:VEVENT
UID:0c03a208-59b4-442a-93f7-75785e61134b@www.beecherandbennett.com
DTSTAMP:20260424T192324Z
DTSTART:20260602T161500Z
DTEND:20260602T161500Z
SUMMARY:Graveside Service
DESCRIPTION:
URL:https://www.beecherandbennett.com/obituaries/andree-decerbo
LOCATION:St. John Cemetery 400 Christian St  Wallingford CT 06492
GEO:41.454537;-72.801637
END:VEVENT
END:VCALENDAR