BEGIN:VCALENDAR
VERSION:2.0
PRODID:-//Tukios.com/
BEGIN:VEVENT
UID:60d7062d-4c40-4393-ada1-ed3a1528eab0@www.beecherandbennett.com
DTSTAMP:20260424T173148Z
DTSTART:20260428T230000Z
DTEND:20260428T130000Z
SUMMARY:Visitation
DESCRIPTION:
URL:https://www.beecherandbennett.com/obituaries/donna-mongillo
LOCATION:Beecher & Bennett Funeral Service - Meriden 48 Cook Ave  Meriden 
	CT 06451
GEO:41.5367581;-72.8073918
END:VEVENT
END:VCALENDAR