BEGIN:VCALENDAR
VERSION:2.0
PRODID:-//Tukios.com/
BEGIN:VEVENT
UID:7e2ecfbb-272b-4e85-9074-4f9c384b28fd@www.beecherandbennett.com
DTSTAMP:20260424T173246Z
DTSTART:20260429T003000Z
DTEND:20260429T003000Z
SUMMARY:Prayer Service
DESCRIPTION:
URL:https://www.beecherandbennett.com/obituaries/donna-mongillo
LOCATION:Beecher & Bennett Funeral Service - Meriden 48 Cook Ave  Meriden 
	CT 06451
GEO:41.5367581;-72.8073918
END:VEVENT
END:VCALENDAR